BEGIN:VCALENDAR
VERSION:2.0
PRODID:-//A Wave Within - ECPv6.15.17.1//NONSGML v1.0//EN
CALSCALE:GREGORIAN
METHOD:PUBLISH
X-ORIGINAL-URL:https://awavewithin.com
X-WR-CALDESC:Events for A Wave Within
REFRESH-INTERVAL;VALUE=DURATION:PT1H
X-Robots-Tag:noindex
X-PUBLISHED-TTL:PT1H
BEGIN:VTIMEZONE
TZID:UTC
BEGIN:STANDARD
TZOFFSETFROM:+0000
TZOFFSETTO:+0000
TZNAME:UTC
DTSTART:20230101T000000
END:STANDARD
END:VTIMEZONE
BEGIN:VEVENT
DTSTART;TZID=UTC:20240928T080000
DTEND;TZID=UTC:20240929T170000
DTSTAMP:20260421T101349
CREATED:20240503T005707Z
LAST-MODIFIED:20240503T005707Z
UID:543-1727510400-1727629200@awavewithin.com
SUMMARY:New Earth Psychic Festival
DESCRIPTION:September 28 & 29\, 2024 from 10am–6pm \nArnold Palmer’s Tradition Golf Course\n78505 52nd Ave\, La Quinta\, CA 92253 \nPlenty of Free Parking
URL:https://awavewithin.com/event/new-earth-psychic-festival/
LOCATION:Arnold Palmer’s Tradition Golf Course\, 78505 52nd Ave\, La Quinta\, CA\, 92253\, United States
ATTACH;FMTTYPE=image/jpeg:https://awavewithin.com/wp-content/uploads/2024/05/Mt-Shasta.jpg
END:VEVENT
BEGIN:VEVENT
DTSTART;TZID=UTC:20241123T080000
DTEND;TZID=UTC:20241124T170000
DTSTAMP:20260421T101349
CREATED:20240503T004143Z
LAST-MODIFIED:20240503T004143Z
UID:524-1732348800-1732467600@awavewithin.com
SUMMARY:Body Mind Spirit Celebration - Cincinnati
DESCRIPTION:Cincinnati  Nov 23-24\, 2024\n 85 Booths  40 Performers  30+ Psychics & Healers! www.bmse.net  Natural Health  Personal Growth  Metaphysics!!! • Sat 10-6/Sun 10-6  Weekend Entry Just $12! Bring a Friend to America’s Legendary Festival of ALL Things Holistic!\n Admission Includes Access to Exhibit Hall and ALL Presentations & Performances.\nThere’s plenty of Parking.\nTo Exhibit or Attend Register Online: www.bmse.net\n541-482-3722\nComplete Program Guide Available at: https://bmse.net/event/eventhome.php?eid=505 \nLOCATION\n11355 CHESTER RD\,\nCINCINNATI\, OH 45246\nSHARONVILLE CONVENTION CENTER \nTICKETS\nFROM $0.00\nBUY TICKETS Buy Tickets\nDATE/TIME\nNOV 23-24\nSAT 10 – 7 | SUN 10 – 6
URL:https://awavewithin.com/event/body-mind-spirit-celebration-cincinnati/
LOCATION:SHARONVILLE CONVENTION CENTER\, 11355 CHESTER RD\, CINCINNATI\, OH\, 45246\, United States
ATTACH;FMTTYPE=image/png:https://awavewithin.com/wp-content/uploads/2024/03/Screenshot-2024-03-13-at-2.48.54 PM.png
END:VEVENT
BEGIN:VEVENT
DTSTART;TZID=UTC:20250207T080000
DTEND;TZID=UTC:20250210T170000
DTSTAMP:20260421T101349
CREATED:20240503T010639Z
LAST-MODIFIED:20240503T010639Z
UID:555-1738915200-1739206800@awavewithin.com
SUMMARY:Conscious Life Expo 2025
DESCRIPTION:SAVE THE DATES FOR NEXT YEAR \nFEBRUARY 7th-10th 2025 \n\n\n\nBeginning with its first Expo 23 years ago\, the Conscious Life Expo has presented cutting edge\, life-changing information to thousands of attendees at its yearly event at the LAX Hilton in Los Angeles\, the City of Angels. Join us and hundreds of speakers and exhibitors as we happily participate in the transformation of the world. \n\n\n WHO\nAll of us who are witnessing\nand participating in the\ntransformation of the world \n\n  WHAT\nA 4-day LIVE event\nat the LAX Hilton\nfeaturing hundreds of exhibitors\,\nspeakers\, and special events \n\n WHERE\nLAX Hilton Hotel\n5711 W Century Blvd\nLos Angeles\, CA 90045\nOur 22nd year at the LAX Hilton \n\n WHEN\nFebruary 9th-11th\, 2024 and Post Conference on Feb 12th \n\nHOW\nGet discounted tickets starting November 1st
URL:https://awavewithin.com/event/conscious-life-expo-2025/
LOCATION:LAX Hilton Hotel\, 5711 W Century Blvd\, Los Angeles\, CA\, 90045\, United States
ATTACH;FMTTYPE=image/jpeg:https://awavewithin.com/wp-content/uploads/2024/05/Conscious-Life-Expo.jpg
END:VEVENT
BEGIN:VEVENT
DTSTART;TZID=UTC:20250322T100000
DTEND;TZID=UTC:20250323T190000
DTSTAMP:20260421T101349
CREATED:20250226T202028Z
LAST-MODIFIED:20250226T202135Z
UID:579-1742637600-1742756400@awavewithin.com
SUMMARY:New Life Expo
DESCRIPTION:Step into a world of transformation and be part of the dynamic energy of the NewLife Expo\, a weekend where Science Meets Spirituality helping you Reinvent Your Destiny. For 35 years now\, we’ve been bringing together souls from all over to explore biohacking holistic living – mind\, body & spirit! \nJoin us in Florida this weekend March 22–23\, 2025 from 10am–7pm for an unforgettable experience that will empower your life’s journey. \nDoubleTree Hilton \n100 Fairway Dr\, Deerfield Beach \nEnjoy our innovative exhibitors and our talented\, inspiring lecturers from around the country. Play with us at our Qi Gong classes\, Sound Healing/Cacao Ceremony\, and Ecstatic Dancing. Our awesome Panels and special events are mind blowing. \nFor more info and to get tickets\, visit www.newlifeexpo.com
URL:https://awavewithin.com/event/new-life-expo/
ATTACH;FMTTYPE=image/jpeg:https://awavewithin.com/wp-content/uploads/2025/02/479185608_1258713709593705_6643139989106511529_n.jpeg
END:VEVENT
BEGIN:VEVENT
DTSTART;TZID=UTC:20250329T100000
DTEND;TZID=UTC:20250330T190000
DTSTAMP:20260421T101349
CREATED:20250226T202408Z
LAST-MODIFIED:20250226T202408Z
UID:582-1743242400-1743361200@awavewithin.com
SUMMARY:New Life Expo
DESCRIPTION:Step into a world of transformation and be part of the dynamic energy of the NewLife Expo\, a weekend where Science Meets Spirituality helping you Reinvent Your Destiny. For 35 years now\, we’ve been bringing together souls from all over to explore biohacking holistic living – mind\, body & spirit! \nJoin us in New York this weekend March 29–30\, 2025 from 10am–7pm for an unforgettable experience that will empower your life’s journey. \nDoubleTree Hilton \n481 8th Ave\, New York\, NY 10001 \nEnjoy our innovative exhibitors and our talented\, inspiring lecturers from around the country. Play with us at our Qi Gong classes\, Sound Healing/Cacao Ceremony\, and Ecstatic Dancing. Our awesome Panels and special events are mind blowing. \nFor more info and to get tickets\, visit www.newlifeexpo.com
URL:https://awavewithin.com/event/new-life-expo-2/
ATTACH;FMTTYPE=image/jpeg:https://awavewithin.com/wp-content/uploads/2025/02/479185608_1258713709593705_6643139989106511529_n.jpeg
END:VEVENT
END:VCALENDAR